BEGIN:VCALENDAR
VERSION:2.0
PRODID:-//BHS PTO - ECPv6.15.20//NONSGML v1.0//EN
CALSCALE:GREGORIAN
METHOD:PUBLISH
X-WR-CALNAME:BHS PTO
X-ORIGINAL-URL:https://bhs-pto.org
X-WR-CALDESC:Events for BHS PTO
REFRESH-INTERVAL;VALUE=DURATION:PT1H
X-Robots-Tag:noindex
X-PUBLISHED-TTL:PT1H
BEGIN:VTIMEZONE
TZID:America/New_York
BEGIN:DAYLIGHT
TZOFFSETFROM:-0500
TZOFFSETTO:-0400
TZNAME:EDT
DTSTART:20240310T070000
END:DAYLIGHT
BEGIN:STANDARD
TZOFFSETFROM:-0400
TZOFFSETTO:-0500
TZNAME:EST
DTSTART:20241103T060000
END:STANDARD
BEGIN:DAYLIGHT
TZOFFSETFROM:-0500
TZOFFSETTO:-0400
TZNAME:EDT
DTSTART:20250309T070000
END:DAYLIGHT
BEGIN:STANDARD
TZOFFSETFROM:-0400
TZOFFSETTO:-0500
TZNAME:EST
DTSTART:20251102T060000
END:STANDARD
BEGIN:DAYLIGHT
TZOFFSETFROM:-0500
TZOFFSETTO:-0400
TZNAME:EDT
DTSTART:20260308T070000
END:DAYLIGHT
BEGIN:STANDARD
TZOFFSETFROM:-0400
TZOFFSETTO:-0500
TZNAME:EST
DTSTART:20261101T060000
END:STANDARD
END:VTIMEZONE
BEGIN:VEVENT
DTSTART;VALUE=DATE:20250923
DTEND;VALUE=DATE:20250924
DTSTAMP:20260422T181153
CREATED:20250915T223914Z
LAST-MODIFIED:20250915T223914Z
UID:6656-1758585600-1758671999@bhs-pto.org
SUMMARY:Rosh Hashanah - School Closed
DESCRIPTION:
URL:https://bhs-pto.org/event/rosh-hashanah-school-closed/
END:VEVENT
BEGIN:VEVENT
DTSTART;TZID=America/New_York:20250918T183000
DTEND;TZID=America/New_York:20250918T193000
DTSTAMP:20260422T181153
CREATED:20250915T221504Z
LAST-MODIFIED:20250915T222133Z
UID:6651-1758220200-1758223800@bhs-pto.org
SUMMARY:You're Invited to International Parents' Night!
DESCRIPTION:Join us for an evening dedicated to new international families at BHS. This is a great opportunity to learn about academic and student life\, get your questions answered\, and connect with other families. \nWhen: Thursday\, September 18th\, 2025 from 6:30-7:30 PM \nWhere: MLK Room (1st floor) of 115 Greenough St. \nIf you need interpreter services\, please email Katy_Ouellette@psbma.org. \nWe look forward to seeing you there!
URL:https://bhs-pto.org/event/youre-invited-to-international-parents-night/
LOCATION:BHS – MLK Room\, 115 Greenough St.\, Brookline\, MA\, United States
ATTACH;FMTTYPE=image/png:https://bhs-pto.org/wp-content/uploads/2025/09/International-parents-night.png
END:VEVENT
BEGIN:VEVENT
DTSTART;TZID=America/New_York:20250917T190000
DTEND;TZID=America/New_York:20250917T200000
DTSTAMP:20260422T181153
CREATED:20250908T225558Z
LAST-MODIFIED:20250908T225558Z
UID:6617-1758135600-1758139200@bhs-pto.org
SUMMARY:Meet the Deans / PTO Class Meeting Night – 10th Grade
DESCRIPTION:Wednesday\, September 17 — Class of 2028📍 7:00–8:00 p.m. | Tappan CafeteriaJoin us to meet the 10th grade dean\, hear updates for the year ahead\, and connect with PTO representatives as the Class of 2028 continues its high school journey.
URL:https://bhs-pto.org/event/meet-the-deans-pto-class-meeting-night-10th-grade/
LOCATION:BHS – 22 Tappan Auditorium\, 22 Tappan St.\, Brookline\, MA\, United States
END:VEVENT
BEGIN:VEVENT
DTSTART;TZID=America/New_York:20250915T190000
DTEND;TZID=America/New_York:20250915T200000
DTSTAMP:20260422T181153
CREATED:20250908T225254Z
LAST-MODIFIED:20250908T225254Z
UID:6615-1757962800-1757966400@bhs-pto.org
SUMMARY:Meet the Deans / PTO Class Meeting Night – 12th Grade
DESCRIPTION:Monday\, September 15 — Class of 2026📍 7:00–8:00 p.m. | Tappan CafeteriaSenior families\, this is your chance to meet the 12th grade dean\, hear what’s in store for the Class of 2026 in their final year\, and connect with PTO representatives.
URL:https://bhs-pto.org/event/meet-the-deans-pto-class-meeting-night-12th-grade/
LOCATION:BHS – 22 Tappan Auditorium\, 22 Tappan St.\, Brookline\, MA\, United States
END:VEVENT
BEGIN:VEVENT
DTSTART;TZID=America/New_York:20250910T190000
DTEND;TZID=America/New_York:20250910T200000
DTSTAMP:20260422T181153
CREATED:20250908T224457Z
LAST-MODIFIED:20250908T224457Z
UID:6613-1757530800-1757534400@bhs-pto.org
SUMMARY:Meet the Deans / PTO Class Meeting Night – 9th Grade
DESCRIPTION:Wednesday\, September 10 — Class of 2029📍 7:00–8:00 p.m. | Tappan CafeteriaFamilies of 9th graders are invited to meet the Class of 2029 dean\, get key updates about the transition to high school\, and connect with PTO representatives.
URL:https://bhs-pto.org/event/meet-the-deans-pto-class-meeting-night-9th-grade/
LOCATION:BHS – 22 Tappan Auditorium\, 22 Tappan St.\, Brookline\, MA\, United States
END:VEVENT
BEGIN:VEVENT
DTSTART;TZID=America/New_York:20250908T190000
DTEND;TZID=America/New_York:20250908T200000
DTSTAMP:20260422T181153
CREATED:20250908T224149Z
LAST-MODIFIED:20250908T224149Z
UID:6611-1757358000-1757361600@bhs-pto.org
SUMMARY:Meet the Deans / PTO Class Meeting Night – 11th Grade
DESCRIPTION:Don’t miss tonight’s opportunity to meet the 11th grade dean\, hear important opening-day messages\, learn what’s ahead for the Class of 2027\, and connect with PTO representatives.
URL:https://bhs-pto.org/event/meet-the-deans-pto-class-meeting-night-11th-grade/
LOCATION:BHS – 22 Tappan Auditorium\, 22 Tappan St.\, Brookline\, MA\, United States
END:VEVENT
BEGIN:VEVENT
DTSTART;VALUE=DATE:20250624
DTEND;VALUE=DATE:20250902
DTSTAMP:20260422T181153
CREATED:20250623T190002Z
LAST-MODIFIED:20250707T184409Z
UID:6520-1750723200-1756771199@bhs-pto.org
SUMMARY:Summer Break 2025 - (No school)
DESCRIPTION:Brookline High School will be on summer break 2025 from Wednesday\, July 23 through Monday\, Sept. 1. \nThe BHS PTO sends our warmest wishes to all students\, families\, and staff for a relaxing and joyful summer. Whether you’re traveling\, working\, or unwinding close to home\, we hope you take this time to recharge and make great memories. \nWe look forward to a strong start to the new school year when classes resume on Tuesday\, Sept. 2!
URL:https://bhs-pto.org/event/summer-break-2025-no-school/
END:VEVENT
BEGIN:VEVENT
DTSTART;VALUE=DATE:20250623
DTEND;VALUE=DATE:20250624
DTSTAMP:20260422T181153
CREATED:20250401T162158Z
LAST-MODIFIED:20250401T162158Z
UID:6156-1750636800-1750723199@bhs-pto.org
SUMMARY:Last day of school (if no more weather cancellations)
DESCRIPTION:
URL:https://bhs-pto.org/event/last-day-of-school-if-no-more-weather-cancellations/
END:VEVENT
BEGIN:VEVENT
DTSTART;TZID=America/New_York:20250620T080000
DTEND;TZID=America/New_York:20250620T110000
DTSTAMP:20260422T181153
CREATED:20250618T154433Z
LAST-MODIFIED:20250618T154433Z
UID:6470-1750406400-1750417200@bhs-pto.org
SUMMARY:Teacher Appreciation Breakfast – This Friday!
DESCRIPTION:Join us this Friday for our Teacher Appreciation Breakfast\, a special event to honor the incredible teachers and staff who support and inspire our students every day! \nThe Teacher Appreciation Breakfast is the perfect opportunity to show just how much we value their dedication and hard work all year long. Whether you can help with setting up\, serving\, cleaning up\, or by donating breakfast treats or supplies\, your support will go a long way. \n👉 Click here to sign up and be part of the celebration. \nLet’s make this a morning to remember! 🧡
URL:https://bhs-pto.org/event/teacher-appreciation-breakfast-this-friday/
LOCATION:Stem Lobby\, 115 Greenough St\, 115 Greenough Street\, Brookline\, MA\, United States
END:VEVENT
BEGIN:VEVENT
DTSTART;VALUE=DATE:20250619
DTEND;VALUE=DATE:20250620
DTSTAMP:20260422T181153
CREATED:20250401T162120Z
LAST-MODIFIED:20250401T162120Z
UID:6154-1750291200-1750377599@bhs-pto.org
SUMMARY:Juneteenth - Schools Closed
DESCRIPTION:
URL:https://bhs-pto.org/event/juneteenth-schools-closed/
END:VEVENT
BEGIN:VEVENT
DTSTART;VALUE=DATE:20250608
DTEND;VALUE=DATE:20250609
DTSTAMP:20260422T181153
CREATED:20250401T162041Z
LAST-MODIFIED:20250401T162041Z
UID:6152-1749340800-1749427199@bhs-pto.org
SUMMARY:Brookline High School Graduation
DESCRIPTION:
URL:https://bhs-pto.org/event/brookline-high-school-graduation/
END:VEVENT
BEGIN:VEVENT
DTSTART;TZID=America/New_York:20250604T174500
DTEND;TZID=America/New_York:20250605T050000
DTSTAMP:20260422T181153
CREATED:20250512T143334Z
LAST-MODIFIED:20250512T143334Z
UID:6353-1749059100-1749099600@bhs-pto.org
SUMMARY:BHS Senior Prom & After The Prom Party 2025!
DESCRIPTION:Get ready\, Seniors! An unforgettable night of celebration is planned just for you! \n✨ Key Dates & URGENT Deadline ✨ \n\nProm & ATPP Tickets on Sale: NOW until Monday\, May 19th\, 3:00 PM!\nPayment & Contracts DUE: Monday\, May 19th by 3:00 PM to Office 161 @ 115. (Checks/money orders to Brookline High School\, memo: BHS student name + “Senior package”)\n\n🎉 The Main Events: Wednesday\, June 4\, 2025 🎉 \n\n\nPre-Prom Check-in (Mandatory for Prom Attendees): \n\nTime: 5:45 PM – 6:30 PM\nLocation: BHS Quad Entrance (Bag search for change of clothes for ATPP. No bags on bus/at Prom. Small purses max 10″x10″ allowed. Bring ID!)\nBus to Prom: Last bus departs BHS at 6:45 PM. (Mandatory transport for all)\n\n\n\n\n\nSenior Prom: \n\nTime: 7:00 PM – 11:00 PM\nLocation: House of Blues\n\n\n\n\n\nAfter The Prom Party (ATPP): \n\nTime: 11:00 PM (June 4) – 5:00 AM (June 5)\nLocation: BHS Tappan Street Gym\nImportant: Students attending Prom MUST also attend ATPP and stay until at least 3:30 AM. No going home to change between events. (Medical exceptions: contact Dean Thomas or Dean Longmire by May 19th).\n\n\n\n🎟️ Ticket Info: \n\nSenior Package: $200 (Includes Prom ticket\, ATPP ticket & required Cap & Gown for graduation).\nATPP Ticket Only: $30\nCap & Gown Only: $25 (Required for graduation if not attending Prom/ATPP).\n\nThis is your night\, Seniors! Don’t miss out – get your tickets and submit contracts by May 19th!
URL:https://bhs-pto.org/event/bhs-senior-prom-after-the-prom-party-2025/
LOCATION:66 Tappan St\, Brookline High School Tappan Gym\, 66 Tappan St.\, Brookline\, MA\, United States
END:VEVENT
BEGIN:VEVENT
DTSTART;VALUE=DATE:20250526
DTEND;VALUE=DATE:20250527
DTSTAMP:20260422T181153
CREATED:20250401T161829Z
LAST-MODIFIED:20250401T161936Z
UID:6149-1748217600-1748303999@bhs-pto.org
SUMMARY:Memorial Day — Schools Closed
DESCRIPTION:
URL:https://bhs-pto.org/event/memorial-day-school-closed/
END:VEVENT
BEGIN:VEVENT
DTSTART;TZID=America/New_York:20250513T193000
DTEND;TZID=America/New_York:20250514T090000
DTSTAMP:20260422T181153
CREATED:20250512T143954Z
LAST-MODIFIED:20250512T144141Z
UID:6356-1747164600-1747213200@bhs-pto.org
SUMMARY:BHS Spring Music Festival - TUESDAY & WEDNESDAY!
DESCRIPTION:You’re Invited! \nExperience two spectacular evenings celebrating the incredible musical talent at Brookline High School. \nJoin us for the BHS Spring Music Festival\, featuring performances from over 300 talented student musicians. The festival will include student solos and a special salute to the graduating Class of 2025! \nPerformance Schedule: \n\n\nNight 1: Tuesday\, May 13th @ 7:30 PM \n\nFeaturing: Concert Band\, Advanced Chamber Orchestra\, Concert Choir\, A Cappella Choir\nLocation: Roberts/Dubbs Auditorium\n\n\n\n\n\nNight 2: Wednesday\, May 14th @ 7:30 PM \n\nFeaturing: Concert Orchestra\, String Orchestra\, Music Collective\, Camerata Choir\, Combined Choirs\nLocation: Roberts/Dubbs Auditorium\n\n\n\nDon’t miss this wonderful showcase of music and dedication! \nReady for some fantastic music? \n🎟️ Get your tickets here!
URL:https://bhs-pto.org/event/bhs-spring-music-festival-tomorrow-wednesday/
LOCATION:BHS – Roberts Dubbs Auditorium – 115 Greenough St.\, 115 Greenough Street\, Brookline\, MA\, United States
END:VEVENT
BEGIN:VEVENT
DTSTART;VALUE=DATE:20250421
DTEND;VALUE=DATE:20250426
DTSTAMP:20260422T181153
CREATED:20250324T155053Z
LAST-MODIFIED:20250324T155053Z
UID:6042-1745193600-1745625599@bhs-pto.org
SUMMARY:Spring Vacation  — schools closed
DESCRIPTION:
URL:https://bhs-pto.org/event/spring-vacation-schools-closed/
END:VEVENT
END:VCALENDAR