BEGIN:VCALENDAR
VERSION:2.0
PRODID:-//BHS PTO - ECPv6.15.20//NONSGML v1.0//EN
CALSCALE:GREGORIAN
METHOD:PUBLISH
X-ORIGINAL-URL:https://bhs-pto.org
X-WR-CALDESC:Events for BHS PTO
REFRESH-INTERVAL;VALUE=DURATION:PT1H
X-Robots-Tag:noindex
X-PUBLISHED-TTL:PT1H
BEGIN:VTIMEZONE
TZID:America/New_York
BEGIN:DAYLIGHT
TZOFFSETFROM:-0500
TZOFFSETTO:-0400
TZNAME:EDT
DTSTART:20250309T070000
END:DAYLIGHT
BEGIN:STANDARD
TZOFFSETFROM:-0400
TZOFFSETTO:-0500
TZNAME:EST
DTSTART:20251102T060000
END:STANDARD
BEGIN:DAYLIGHT
TZOFFSETFROM:-0500
TZOFFSETTO:-0400
TZNAME:EDT
DTSTART:20260308T070000
END:DAYLIGHT
BEGIN:STANDARD
TZOFFSETFROM:-0400
TZOFFSETTO:-0500
TZNAME:EST
DTSTART:20261101T060000
END:STANDARD
BEGIN:DAYLIGHT
TZOFFSETFROM:-0500
TZOFFSETTO:-0400
TZNAME:EDT
DTSTART:20270314T070000
END:DAYLIGHT
BEGIN:STANDARD
TZOFFSETFROM:-0400
TZOFFSETTO:-0500
TZNAME:EST
DTSTART:20271107T060000
END:STANDARD
END:VTIMEZONE
BEGIN:VEVENT
DTSTART;VALUE=DATE:20260216
DTEND;VALUE=DATE:20260221
DTSTAMP:20260422T181037
CREATED:20260218T220123Z
LAST-MODIFIED:20260218T220123Z
UID:7163-1771200000-1771631999@bhs-pto.org
SUMMARY:February vacation (School Closed)
DESCRIPTION:School will be closed from February 16 through February 20.Classes will resume on Monday\, February 23.
URL:https://bhs-pto.org/event/february-vacation-school-closed/
LOCATION:MA
END:VEVENT
BEGIN:VEVENT
DTSTART;TZID=America/New_York:20260225T190000
DTEND;TZID=America/New_York:20260225T200000
DTSTAMP:20260422T181037
CREATED:20260218T221816Z
LAST-MODIFIED:20260218T221816Z
UID:7166-1772046000-1772049600@bhs-pto.org
SUMMARY:Brookline Public Schools LGBTQ+ Task Force Meeting
DESCRIPTION:The Brookline Public Schools LGBTQ+ Task Force\, co-led by two BHS parents\, will hold its next meeting on Wednesday\, February 25 at 7 p.m. via Zoom. \nThe Task Force brings together parents\, caregivers\, educators\, and community members committed to supporting LGBTQ+ students and fostering inclusive school environments across the district. \nIf you are interested in learning more or attending the meeting\, please email for additional information. (brooklinelgbtqtaskforce@gmail.com)
URL:https://bhs-pto.org/event/brookline-public-schools-lgbtq-task-force-meeting/
LOCATION:Zoom
END:VEVENT
BEGIN:VEVENT
DTSTART;TZID=America/New_York:20260313T190000
DTEND;TZID=America/New_York:20260313T210000
DTSTAMP:20260422T181037
CREATED:20260311T201926Z
LAST-MODIFIED:20260311T202603Z
UID:7176-1773428400-1773435600@bhs-pto.org
SUMMARY:AcapellaFest
DESCRIPTION:AcapellaFest Brookline High School\n📅 Friday\, March 13 · 🕖 7:00 PM · 📍 Tappan Gym\, Dance Studio 1 · 🎟️ Tickets \n\nOne night. Four groups. Zero excuses to miss it. \nCatch all of Brookline High School’s a cappella groups together on one stage — The BHS A Cappella Choir\, Perfect Pitch\, Note-a-fy\, and Bass Value — for a night of incredible live vocal performances. \nAnd because great music deserves great laughs\, BHS’s hilarious improv comedy troupe Needs Improvment will be joining the fun\, making this a truly one-of-a-kind\, family-friendly evening. \nTickets \n\n🎓 Students: FREE\n🎟️ Adults: $10\n\nThese performances sell out fast — buy your tickets in advance to guarantee your spot!
URL:https://bhs-pto.org/event/acapellafest/
LOCATION:66 Tappan St\, Brookline High School Tappan Gym\, 66 Tappan St.\, Brookline\, MA\, United States
ATTACH;FMTTYPE=image/jpeg:https://bhs-pto.org/wp-content/uploads/2026/03/Acapella-Fest.jpg
END:VEVENT
BEGIN:VEVENT
DTSTART;TZID=America/New_York:20260327T190000
DTEND;TZID=America/New_York:20260327T223000
DTSTAMP:20260422T181037
CREATED:20260311T195634Z
LAST-MODIFIED:20260311T195634Z
UID:7172-1774638000-1774650600@bhs-pto.org
SUMMARY:Class of 2027 Semi-Formal
DESCRIPTION:BHS · Class of 2027 Semi-Formal A Hollywood Glamorous Night to Remember\n📅 March 27\, 2026 · 🕖 7:00–10:30 PM · 📍 22 Tappan \n\nOrganized by the Class of 2027 deans\, PTO representatives\, and dedicated parent and guardian volunteers\, the Junior Semi-Formal is one of the highlights of junior year. This year’s theme promises a night of Hollywood glamour and unforgettable memories for every CO27 student. \nKey Dates \n\nMarch 20 — Ticket purchase deadline\nMarch 23 — All documents & payments due\nMarch 27 — Event night\, 7:00–10:30 PM at 22 Tappan\n\nFor Parents & Guardians of CO27 Don’t forget to complete the BHS Junior Semi Contract for your CO27 student. The contract includes all key dates and important details your family needs to know before the big night. \nVolunteer & Donate We need your help to make this a Hollywood Glamorous night to remember! We’re looking for donations in advance\, as well as day-of volunteers to help with decorating\, food service\, and clean up. Sign up through Sign Up Genius. \nCO27 parents and caregivers — your students will be especially grateful for your support before the event rather than at the event. \nA heartfelt thank you to parents and caregivers of the freshman\, sophomore\, and senior classes for helping with food and drink service on the night of the event.
URL:https://bhs-pto.org/event/class-of-2027-semi-formal/
LOCATION:BHS – 22 Tappan Atrium\, 22 Tappan St.\, Brookline\, MA\, 02445\, United States
ATTACH;FMTTYPE=image/jpeg:https://bhs-pto.org/wp-content/uploads/2025/02/junior-semi.jpg
END:VEVENT
BEGIN:VEVENT
DTSTART;TZID=America/New_York:20260408T080000
DTEND;TZID=America/New_York:20260408T190000
DTSTAMP:20260422T181037
CREATED:20260408T163934Z
LAST-MODIFIED:20260408T163934Z
UID:7405-1775635200-1775674800@bhs-pto.org
SUMMARY:We're Not Done Yet
DESCRIPTION:WE’RE NOT DONE YET is a collection of student-written scenes that explore our articulated values vs. our lived values here at BHS. The format of this show is quite different than what you have seen from TfSC before but as always\, the performance is followed by a post-show discussion\, inviting audience members to consider how we can contribute to a better future. \nTickets here
URL:https://bhs-pto.org/event/were-not-done-yet/
LOCATION:BHS – Roberts Dubbs Auditorium – 115 Greenough St.\, 115 Greenough Street\, Brookline\, MA\, United States
END:VEVENT
BEGIN:VEVENT
DTSTART;TZID=America/New_York:20260409T190000
DTEND;TZID=America/New_York:20260409T190000
DTSTAMP:20260422T181037
CREATED:20260408T164720Z
LAST-MODIFIED:20260408T164720Z
UID:7407-1775761200-1775761200@bhs-pto.org
SUMMARY:Rising 9th Grade\, Wine & Cheese Social
DESCRIPTION:The BHS Innovation Fund warmly invites parents and guardians of rising 9th graders to connect with BHS faculty\, Head of School Anthony Meyer\, and fellow families. Learn how the BHS Innovation Fund helps launch transformative courses and programs that expand academic opportunity and curricular innovation at BHS. Wine\, beer\, and light hors d’oeuvres will be served. \nFree\, adult-only event. \nRegister here
URL:https://bhs-pto.org/event/rising-9th-grade-wine-cheese-social/
LOCATION:Hemlock Grill\, Robert A. Lynch Municipal Golf Course\, Chestnut Hill\, MA 02467\, 1281 W Roxbury Pkwy\, Chestnut Hill\, MA\, 02467\, United States
END:VEVENT
BEGIN:VEVENT
DTSTART;TZID=America/New_York:20260409T193000
DTEND;TZID=America/New_York:20260410T193000
DTSTAMP:20260422T181037
CREATED:20260408T165634Z
LAST-MODIFIED:20260408T165634Z
UID:7413-1775763000-1775849400@bhs-pto.org
SUMMARY:Spring Music Collective Concerts
DESCRIPTION:This year’s Spring Music Collective brings something special: a program built almost entirely on student arrangements\, alongside works by Julius Hemphill and Dave Douglas. \nFor one evening\, the BHS auditorium transforms into an intimate club setting—think dim lights\, close listening\, and light refreshments. It’s a concert worth slowing down for. \n\nApril 9 & 10 | 7:30 PM\nRobert Dubois Auditorium\nAdmission: $10 | Students: $5\n\nBuy tickets here\, selecting the date of your choosing. Tickets will be sent to you by email—please have your ticket or email receipt ready to show at the door.
URL:https://bhs-pto.org/event/spring-music-collective-concerts/
LOCATION:BHS – Roberts Dubbs Auditorium – 115 Greenough St.\, 115 Greenough Street\, Brookline\, MA\, United States
END:VEVENT
BEGIN:VEVENT
DTSTART;TZID=America/New_York:20260415T193000
DTEND;TZID=America/New_York:20260415T210000
DTSTAMP:20260422T181037
CREATED:20260408T170828Z
LAST-MODIFIED:20260408T172952Z
UID:7415-1776281400-1776286800@bhs-pto.org
SUMMARY:BHS Students Perform Haydn's Mass in Time of War
DESCRIPTION:Under the direction of Michael Driscoll and Nina Bishop\, Brookline High School’s Camerata Choir and Advanced Chamber Orchestra present Joseph Haydn’s Missa in tempore belli (Mass in Time of War)\, alongside works by Telemann and Grieg. \nComposed during a period of political upheaval in Europe\, Haydn’s Mass in Time of War balances urgency and serenity\, fear and faith. It’s a work that has lost none of its resonance—and hearing it performed entirely by BHS students makes it all the more remarkable. \nThis concert features soloists from within the Camerata Choir and the full collaboration of voices and orchestra\, showcasing the depth of musical talent at Brookline High School. From Haydn’s driving rhythms to its most luminous\, tender moments\, these are student musicians at their best. \nWe hope you’ll join us. \n\n📅 Wednesday\, April 15\, 2026 \n🕢 7:30–9:00 PM EDT \n📍 Driscoll School Multi-Purpose Room\, Brookline\, MA\n\nTickets \n\nGeneral Admission: $11.20 (includes service fee)\nStudents & PSB Teachers: Free\nDonations to FoPA (Friends of the Performing Arts) welcome — pay what you want.\n\nGet tickets here \nTickets will be sent to you by email—please have your ticket or email receipt ready to show at the door. \nFor more information\, email Michael_Driscoll@psbma.org.
URL:https://bhs-pto.org/event/bhs-students-perform-haydns-mass-in-time-of-war-camerata-choir-advanced-chamber-orchestra/
LOCATION:Driscoll School Multi-Purpose Room\, 725 Washington St\, Brookline\, MA\, 02446\, United States
END:VEVENT
END:VCALENDAR