BEGIN:VCALENDAR
VERSION:2.0
PRODID:-//BHS PTO - ECPv6.15.20//NONSGML v1.0//EN
CALSCALE:GREGORIAN
METHOD:PUBLISH
X-WR-CALNAME:BHS PTO
X-ORIGINAL-URL:https://bhs-pto.org
X-WR-CALDESC:Events for BHS PTO
REFRESH-INTERVAL;VALUE=DURATION:PT1H
X-Robots-Tag:noindex
X-PUBLISHED-TTL:PT1H
BEGIN:VTIMEZONE
TZID:America/New_York
BEGIN:DAYLIGHT
TZOFFSETFROM:-0500
TZOFFSETTO:-0400
TZNAME:EDT
DTSTART:20250309T070000
END:DAYLIGHT
BEGIN:STANDARD
TZOFFSETFROM:-0400
TZOFFSETTO:-0500
TZNAME:EST
DTSTART:20251102T060000
END:STANDARD
BEGIN:DAYLIGHT
TZOFFSETFROM:-0500
TZOFFSETTO:-0400
TZNAME:EDT
DTSTART:20260308T070000
END:DAYLIGHT
BEGIN:STANDARD
TZOFFSETFROM:-0400
TZOFFSETTO:-0500
TZNAME:EST
DTSTART:20261101T060000
END:STANDARD
BEGIN:DAYLIGHT
TZOFFSETFROM:-0500
TZOFFSETTO:-0400
TZNAME:EDT
DTSTART:20270314T070000
END:DAYLIGHT
BEGIN:STANDARD
TZOFFSETFROM:-0400
TZOFFSETTO:-0500
TZNAME:EST
DTSTART:20271107T060000
END:STANDARD
END:VTIMEZONE
BEGIN:VEVENT
DTSTART;TZID=America/New_York:20260313T190000
DTEND;TZID=America/New_York:20260313T210000
DTSTAMP:20260422T145006
CREATED:20260311T201926Z
LAST-MODIFIED:20260311T202603Z
UID:7176-1773428400-1773435600@bhs-pto.org
SUMMARY:AcapellaFest
DESCRIPTION:AcapellaFest Brookline High School\n📅 Friday\, March 13 · 🕖 7:00 PM · 📍 Tappan Gym\, Dance Studio 1 · 🎟️ Tickets \n\nOne night. Four groups. Zero excuses to miss it. \nCatch all of Brookline High School’s a cappella groups together on one stage — The BHS A Cappella Choir\, Perfect Pitch\, Note-a-fy\, and Bass Value — for a night of incredible live vocal performances. \nAnd because great music deserves great laughs\, BHS’s hilarious improv comedy troupe Needs Improvment will be joining the fun\, making this a truly one-of-a-kind\, family-friendly evening. \nTickets \n\n🎓 Students: FREE\n🎟️ Adults: $10\n\nThese performances sell out fast — buy your tickets in advance to guarantee your spot!
URL:https://bhs-pto.org/event/acapellafest/
LOCATION:66 Tappan St\, Brookline High School Tappan Gym\, 66 Tappan St.\, Brookline\, MA\, United States
ATTACH;FMTTYPE=image/jpeg:https://bhs-pto.org/wp-content/uploads/2026/03/Acapella-Fest.jpg
END:VEVENT
END:VCALENDAR